BEGIN:VCALENDAR
VERSION:2.0
PRODID: Inscrição Abertas para o Convívio Sénior 2026 -  Salamanca até
  dia 15 de maio 2026
X-WR-CALNAME: Inscrição Abertas para o Convívio Sénior 2026 -  Salamanc
 a até dia 15 de maio 2026
X-WR-TIMEZONE:Europe/Lisbon
X-PUBLISHED-TTL:P1W
BEGIN:VTIMEZONE
TZID:Europe/Lisbon
X-LIC-LOCATION:Europe/Lisbon
END:VTIMEZONE
BEGIN:VEVENT
UID:69e9135c51428
DTSTART;VALUE=DATE:20260515
SEQUENCE:0
TRANSP:OPAQUE
DTEND;VALUE=DATE:20260516
SUMMARY: Inscrição Abertas para o Convívio Sénior 2026 -  Salamanca at
 é dia 15 de maio 2026
CLASS:PUBLIC
DESCRIPTION:A União de Freguesias de Carragozela e Várzea de Meruge infor
 ma que já se encontram abertas as inscrições para o Convívio Sénior 2
 026\, uma iniciativa promovida pelo Município de Seia.&nbsp\;Data: 17 de 
 junho de 2026&nbsp\;Destino: Salamanca (Espanha)&nbsp\;Almoço: 25€&nbsp
 \;Inscrições até:&nbsp\;17 de maio de 2026&nbsp\;Inscrições na Junta 
 de Freguesia de Carragozela e na Junta de Freguesia de Várzea de Meruge.J
 unte-se a este dia de convívio\, partilha e boa disposição!
X-MICROSOFT-CDO-ALLDAYEVENT:TRUE
DTSTAMP:20260422T182844Z
END:VEVENT
END:VCALENDAR