BEGIN:VCALENDAR
VERSION:2.0
PRODID:Reunião Ordinária da Assembleia de Freguesia de Carragozela e Vár
 zea de Meruge - Abril 2026
X-WR-CALNAME:Reunião Ordinária da Assembleia de Freguesia de Carragozela 
 e Várzea de Meruge - Abril 2026
X-WR-TIMEZONE:Europe/Lisbon
X-PUBLISHED-TTL:P1W
BEGIN:VTIMEZONE
TZID:Europe/Lisbon
X-LIC-LOCATION:Europe/Lisbon
END:VTIMEZONE
BEGIN:VEVENT
UID:69e8df47ce499
DTSTART;VALUE=DATE:20260429
SEQUENCE:0
TRANSP:OPAQUE
DTEND;VALUE=DATE:20260430
SUMMARY:Reunião Ordinária da Assembleia de Freguesia de Carragozela e Vá
 rzea de Meruge - Abril 2026
CLASS:PUBLIC
DESCRIPTION:Reunião Ordinária da Assembleia de Freguesia de Carragozela e
  Várzea de Meruge - Abril 2026Reunião Ordinária da Assembleia de Fregue
 sia no próximo:&nbsp\;29 de abril de 2026&nbsp\;21h00&nbsp\;Salão da Jun
 ta de Freguesia de Carragozela - SeiaA participação da população é es
 sencial para fortalecer a transparência e a proximidade com a comunidade.
 Contamos consigo!&nbsp\;
X-MICROSOFT-CDO-ALLDAYEVENT:TRUE
DTSTAMP:20260422T144631Z
END:VEVENT
END:VCALENDAR